BEGIN:VCALENDAR
PRODID:Solar Promotion GmbH
CALSCALE:GREGORIAN
BEGIN:VEVENT
DTSTAMP:20260424T051015Z
DTSTART:20260625T150000
DTEND:20260625T160000
SUMMARY:EEG-Novelle und Netzpaket: Was geht bei der Photovoltaik noch ab 2027 in Deutschland?
TZID:Europe/Berlin
LAST-MODIFIED:20260423T102402Z
DESCRIPTION:In Deutschland werden die sich abzeichnenden Gesetzesänderungen in der Solarenergie mit Spannung und großer Unsicherheit erwartet: Die geplante EEG-Novelle 2027 und das begleitende Netzpaket zielen darauf ab\, Erneuerbare Energien durch stärkere Marktintegration in das Stromsystem zu integrieren sowie Defizite im Stromnetz durch eine regionale Lenkungswirkung zu minimieren. Welche Konsequenzen diese Neuerungen für die PV-Branche sowie PV-Anlagenbetreiber mit sich bringen\, erfahren Sie in dieser Veranstaltung\, organisiert vom Bundesverband Solarwirtschaft (BSW-Solar) e.V.
SEQUENCE:1777007415
URL:https://www.intersolar.de/messeprogramm/eeg-novelle-und-netzpaket-was-geht-bei-der-photovoltaik-noch-ab-2027-in-deutschland
LOCATION:Intersolar Europe Exhibition Program\, Messe München Halle A3\, Stand A3.150
UID:7af5e40d-4c3e-416a-ad59-0d36e398a27b
END:VEVENT
END:VCALENDAR
