BEGIN:VCALENDAR
PRODID:Solar Promotion GmbH
CALSCALE:GREGORIAN
BEGIN:VEVENT
DTSTAMP:20260424T045900Z
DTSTART:20260625T150000
DTEND:20260625T160000
SUMMARY:EEG reform and grid package: What will still be possible for photovoltaics in Germany from 2027 onward? (in German)
TZID:Europe/Berlin
LAST-MODIFIED:20260423T102308Z
DESCRIPTION:In Germany\, the anticipated legislative changes in solar energy are being awaited with both excitement and considerable uncertainty: the planned EEG reform in 2027 and the accompanying grid package aim to integrate renewable energy more strongly into the electricity system through greater market integration\, while also minimizing deficits in the power grid through regional steering effects. What consequences these changes will have for the PV industry as well as for PV system operators will be explained in this event\, organized by the German Solar Industry Association (BSW-Solar e.V.).
SEQUENCE:1777006740
URL:https://www.intersolar.de/exhibition-program/eeg-reform-and-grid-package-what-will-still-be-possible-for-photovoltaics-in-germany-from-2027-onward-in-german
LOCATION:Intersolar Europe Exhibition Program\, Messe München Hall A3\, Booth A3.150
UID:c38cf35c-d4d4-4c57-88e4-7125bb2ef127
END:VEVENT
END:VCALENDAR
