BEGIN:VCALENDAR
PRODID:Solar Promotion GmbH
CALSCALE:GREGORIAN
BEGIN:VEVENT
DTSTAMP:20260422T022613Z
DTSTART:20260622T154500
DTEND:20260622T164500
SUMMARY:Home Energy Management Systems - From Comfort Feature to Market Enabler for Home Batteries
TZID:Europe/Berlin
LAST-MODIFIED:20260421T103021Z
DESCRIPTION:The decentralized energy transition is entering a new phase: moving away from fixed feed-in tariffs toward market-based solutions and intelligent grid integration. In this context\, Home Energy Management Systems (HEMS) combined with residential energy storage\, are evolving from convenience and optimization tools into critical enablers of prosumer profitability. Opportunities arise from enhanced self-consumption optimization and the growing relevance of front-of-the-meter use cases such as direct marketing. However\, challenges loom: a potential slowdown in new PV and residential storage installations and intensifying competition between large national installer platforms\, independent HEMS-only players and OEMs in an increasingly crowded market. This session will analyze emerging business models\, the competitive landscape and key success factors for HEMS providers in this pivotal market shift.
SEQUENCE:1776824773
URL:https://www.intersolar.de/conference-program/home-energy-management-systems-from-comfort-feature-to-market-enabler-for-home-batteries
LOCATION:ees Europe Conference Program\, ICM München Room 13 A
UID:a5857a76-5ad7-4b57-9c5b-b9200e06c36a
END:VEVENT
END:VCALENDAR
