BEGIN:VCALENDAR
PRODID:Solar Promotion GmbH
CALSCALE:GREGORIAN
BEGIN:VEVENT
DTSTAMP:20260420T073708Z
DTSTART:20260623T143000
DTEND:20260623T160000
SUMMARY:Predictive Operation of Battery Energy Storage Systems: Beyond Predictive Maintenance
TZID:Europe/Berlin
LAST-MODIFIED:20260417T071921Z
DESCRIPTION:While predictive maintenance has become a well-known concept in battery energy storage\, the next step is predictive operation. This approach aims not only to prevent failures\, but also to continuously optimize system operation in real time. The goal is to maximize the performance\, efficiency and lifetime of the existing hardware in each specific use case. Predictive operation extends beyond the battery cells themselves: Adaptive thermal management\, intelligent inverter control and optimal coordination of power electronics all play a crucial role. By anticipating system behavior under different operating scenarios\, predictive operation enables asset owners and operators to extract greater value from their storage systems while improving reliability and integration with renewable generation. This session will highlight the latest methods\, control strategies and demonstration results that bring predictive operation from research into practice.
SEQUENCE:1776670628
URL:https://www.intersolar.de/conference-program/predictive-operation-of-battery-energy-storage-systems-beyond-predictive-maintenance
LOCATION:ees Europe Conference Program\, ICM München Room 13 A
UID:be9add80-8931-480b-a143-6e64733167bf
END:VEVENT
END:VCALENDAR
