BEGIN:VCALENDAR
PRODID:Solar Promotion GmbH
CALSCALE:GREGORIAN
BEGIN:VEVENT
DTSTAMP:20260425T225709Z
DTSTART:20260622T171500
DTEND:20260622T191500
SUMMARY:Opening Night: Vision. Innovation. Change.
TZID:Europe/Berlin
LAST-MODIFIED:20260424T103106Z
DESCRIPTION:Experience The smarter E AWARD Ceremony and gain insights into the progress and future opportunities of the ongoing energy transition.
SEQUENCE:1777157829
URL:https://www.intersolar.de/accompanying-program/opening-night
LOCATION:The smarter E Europe\, 
UID:5c1b14c7-846e-4601-9762-a2d2e8d8dd88
END:VEVENT
END:VCALENDAR
