BEGIN:VCALENDAR
PRODID:Solar Promotion GmbH
CALSCALE:GREGORIAN
BEGIN:VEVENT
DTSTAMP:20260423T221402Z
DTSTART:20240723T110000
DTEND:20240723T123000
SUMMARY:Energy With Beauty – Photovoltaics in the Building Façade: Basics\, Current Trends and Exemplary Implementations
TZID:Europe/Berlin
LAST-MODIFIED:20240910T091155Z
DESCRIPTION:Despite impressive growth rates in photovoltaics\, we are still at the beginning of the transformation of our energy system towards CO2 neutrality. We will need a lot more space to accommodate PV modules.
SEQUENCE:1776982442
URL:https://www.intersolar.de/webinars/bipv-in-facades
LOCATION:Intersolar Europe\, 
UID:6b81e0a7-3e71-446a-bde6-29c9e8b0390d
END:VEVENT
END:VCALENDAR
