BEGIN:VCALENDAR
PRODID:Solar Promotion GmbH
CALSCALE:GREGORIAN
BEGIN:VEVENT
DTSTAMP:20260421T083417Z
DTSTART:20240723T110000
DTEND:20240723T123000
SUMMARY:Energy with Beauty – Photovoltaik in der Fassade: Grundlagen\, aktuelle Trends und beispielhafte Umsetzungen
TZID:Europe/Berlin
LAST-MODIFIED:20240910T091310Z
DESCRIPTION:Trotz beeindruckender Zubauraten bei der Photovoltaik\, stehen wir noch am Anfang der Transformation unseres Energiesystems in Richtung CO2-Neutralität. Wir werden noch sehr viel mehr Fläche benötigen\, um PV-Module unterzubringen.
SEQUENCE:1776760457
URL:https://www.intersolar.de/webinare/bipv-in-fassaden
LOCATION:Intersolar Europe\, 
UID:c8b7a92b-96fe-48b0-81d9-2382a361de3f
END:VEVENT
END:VCALENDAR
