BEGIN:VCALENDAR
PRODID:Solar Promotion GmbH
CALSCALE:GREGORIAN
BEGIN:VEVENT
DTSTAMP:20260423T193304Z
DTSTART:20240620T140000
DTEND:20240620T160000
SUMMARY:How is Solar PV Addressing the Challenges of Grids and Flexibility
TZID:Europe/Berlin
LAST-MODIFIED:20241030T135005Z
DESCRIPTION:Shape Europe's solar future! The EU has set a target of 750 GW solar PV by 2030\, join SolarPower Europe's workshop to tackle grid integration and market reform. Discover the latest developments and help ensure a stable\, flexible EU electricity grid.
SEQUENCE:1776972784
URL:https://www.intersolar.de/rahmenprogramm/how-is-solar-pv-addressing-the-challenges-of-grids-and-flexibility
LOCATION:Intersolar Europe\, 
UID:647873e7-e640-40ce-b6a8-e47e62bfc2ae
END:VEVENT
END:VCALENDAR
