BEGIN:VCALENDAR
PRODID:Solar Promotion GmbH
CALSCALE:GREGORIAN
BEGIN:VEVENT
DTSTAMP:20260422T112931Z
DTSTART:20240430T110000
DTEND:20240430T123000
SUMMARY:Solar Package 1 – What Should I Prepare for as a Solar Company or Solar Installer?
TZID:Europe/Berlin
LAST-MODIFIED:20250911T102130Z
DESCRIPTION:Specialist speakers from the BSW-Bundesverband Solarwirtschaft e.V. (German Solar Industry Association) provide an up-to-date report on the recently adopted Solar Package 1.
SEQUENCE:1776857371
URL:https://www.intersolar.de/webinars/update-solar-package-1
LOCATION:Intersolar Europe\, 
UID:8f8c36bc-4791-47fb-a7e1-3752e781d5d9
END:VEVENT
END:VCALENDAR
