BEGIN:VCALENDAR
PRODID:Solar Promotion GmbH
CALSCALE:GREGORIAN
BEGIN:VEVENT
DTSTAMP:20260422T050656Z
DTSTART:20240206T143000
DTEND:20240206T153000
SUMMARY:The EU Market Outlook for Solar Power 2023-2027
TZID:Europe/Berlin
LAST-MODIFIED:20240910T092024Z
DESCRIPTION:In this webinar we will look at the prospects for PV in the 27 member states over the next few years\, discuss the EU's expansion targets and take a look at the status of the EU manufacturing industry.
SEQUENCE:1776834416
URL:https://www.intersolar.de/webinars/eu-market-outlook-for-solar-power-2023-2027
LOCATION:Intersolar Europe\, 
UID:a04d2456-7a5c-482d-b9a5-864fe28f2240
END:VEVENT
END:VCALENDAR
