BEGIN:VCALENDAR
PRODID:Solar Promotion GmbH
CALSCALE:GREGORIAN
BEGIN:VEVENT
DTSTAMP:20260423T175017Z
DTSTART:20231005T110000
DTEND:20231005T123000
SUMMARY:Solarpaket 1 im Bundestag – Worauf sollte ich mich als Solarunternehmen oder Solarinstallateur schon jetzt einstellen?
TZID:Europe/Berlin
LAST-MODIFIED:20251103T125050Z
DESCRIPTION:Fachreferenten des BSW-Bundesverbandes Solarwirtschaft berichten brandaktuell aus dem Bundestag\, an welchen Stellen sich ab Anfang 2024 Regularien und Förderrahmen ändern werden und wie sich das auf die Geschäftsbedingungen der unterschiedlichen PV-Marktsegmente in Deutschland auswirken dürfte.
SEQUENCE:1776966617
URL:https://www.intersolar.de/webinar-collection/solarpaket1
LOCATION:Intersolar Europe\, 
UID:357786a3-5b33-4f09-b85e-04d56c12818a
END:VEVENT
END:VCALENDAR
