BEGIN:VCALENDAR
PRODID:Solar Promotion GmbH
CALSCALE:GREGORIAN
BEGIN:VEVENT
DTSTAMP:20260422T032236Z
DTSTART:20230926T110000
DTEND:20230926T120000
SUMMARY:Solar Energy in Africa – The New Role of the Continent
TZID:Europe/Berlin
LAST-MODIFIED:20250414T133257Z
DESCRIPTION:In this webinar we take a closer look at the insights from the recently released "Solarize Africa Market Report 2023" and showcase leading lighthouse projects.
SEQUENCE:1776828156
URL:https://www.intersolar.de/webinars/solar-energy-in-africa
LOCATION:Intersolar Europe\, 
UID:d7fb34b8-f204-4684-94bb-1a4446be3b75
END:VEVENT
END:VCALENDAR
