BEGIN:VCALENDAR
PRODID:Solar Promotion GmbH
CALSCALE:GREGORIAN
BEGIN:VEVENT
DTSTAMP:20260423T192729Z
DTSTART:20230314T110000
DTEND:20230314T120000
SUMMARY:Agrivoltaik in Deutschland und Frankreich: Potenziale und Herausforderungen
TZID:Europe/Berlin
LAST-MODIFIED:20231103T110951Z
DESCRIPTION:Der Bereich der Agrivoltaik (Agri-PV) gewinnt in Deutschland und in Frankreich an Relevanz. Das Interesse von Akteuren aus Landwirtschaft\, Energieversorgung und Forschung steigt stark an. Bereits heute trägt die Landwirtschaft zur Erreichung der Ziele für die Entwicklung erneuerbarer Energien bei.
SEQUENCE:1776972449
URL:https://www.intersolar.de/webinare/agrivoltaik-in-deutschland-und-frankreich
LOCATION:Intersolar Europe\, 
UID:5d724eeb-1be4-42fd-a0e0-7a8ee2135e8d
END:VEVENT
END:VCALENDAR
