BEGIN:VCALENDAR
PRODID:Solar Promotion GmbH
CALSCALE:GREGORIAN
BEGIN:VEVENT
DTSTAMP:20260423T131039Z
DTSTART:20230207T110000
DTEND:20230207T123000
SUMMARY:Ausgezeichnete Solar-Architektur: Ausgewählte Projekte aus dem Architekturpreis Gebäudeintegrierte Solartechnik 2022
TZID:Europe/Berlin
LAST-MODIFIED:20231103T110926Z
DESCRIPTION:Die Solarenergienutzung an Gebäuden ist ein zentrales Thema auf dem Weg zur Klimaneutralität. Solartechnische Systeme sollten selbstverständliche Bestandteile innovativer Gebäudehüllen wie auch Bausteine energetischer Sanierung sein.
SEQUENCE:1776949839
URL:https://www.intersolar.de/webinare/architekturpreis-gebaeudeintegrierte-solartechnik
LOCATION:Intersolar Europe\, 
UID:41a0f40d-2d11-42ed-9a5d-111f438f2238
END:VEVENT
END:VCALENDAR
