BEGIN:VCALENDAR
PRODID:Solar Promotion GmbH
CALSCALE:GREGORIAN
BEGIN:VEVENT
DTSTAMP:20260425T132944Z
DTSTART:20221117T140000
DTEND:20221117T153000
SUMMARY:Tax Changes for Solar Systems
TZID:Europe/Berlin
LAST-MODIFIED:20240913T114342Z
DESCRIPTION:The webinar provides an overview of the changes and concrete tips on what specialist companies must now consider when processing orders and issuing invoices.
SEQUENCE:1777123784
URL:https://www.intersolar.de/webinars/tax-changes-for-solar-systems
LOCATION:Intersolar Europe\, November 17\, 2022
UID:f48aaf05-9727-4d38-a49a-7548a5909cff
END:VEVENT
END:VCALENDAR
