BEGIN:VCALENDAR
PRODID:Solar Promotion GmbH
CALSCALE:GREGORIAN
BEGIN:VEVENT
DTSTAMP:20260423T125315Z
DTSTART:20221117T140000
DTEND:20221117T153000
SUMMARY:Steueränderungen bei Solaranlagen
TZID:Europe/Berlin
LAST-MODIFIED:20240913T114326Z
DESCRIPTION:Das Webinar gibt einen Überblick über die Änderungen und konkrete Tipps\, was Fachbetriebe bei der Auftragsabwicklung und Rechnungsstellung jetzt beachten müssen.
SEQUENCE:1776948795
URL:https://www.intersolar.de/webinare/steueraenderungen-bei-solaranlagen
LOCATION:Intersolar Europe\, 17. November 2022
UID:a30b7d46-d84a-4bef-995f-79ef38fd1b1b
END:VEVENT
END:VCALENDAR
