BEGIN:VCALENDAR
PRODID:Solar Promotion GmbH
CALSCALE:GREGORIAN
BEGIN:VEVENT
DTSTAMP:20260423T110735Z
DTSTART:20220628T100000
DTEND:20220628T133000
SUMMARY:Cyber Security – IT-sicherer Betrieb von PV-Anlagen
TZID:Europe/Berlin
LAST-MODIFIED:20250818T084022Z
DESCRIPTION:Der IT-sichere Betrieb von PV-Anlagen ist in allen Spannungsebenen von großer Bedeutung\, sowohl für den Kunden\, also den Anlagenbetreiber\, als auch für den sicheren Netzbetrieb
SEQUENCE:1776942455
URL:https://www.intersolar.de/webinar/cyber-security-it-sicherer-betrieb-von-pv-anlagen
LOCATION:Intersolar Europe\, 28. Juni 2022
UID:e2030656-b486-42a4-8db7-b265ab97d656
END:VEVENT
END:VCALENDAR
