BEGIN:VCALENDAR
PRODID:Solar Promotion GmbH
CALSCALE:GREGORIAN
BEGIN:VEVENT
DTSTAMP:20260423T181206Z
DTSTART:20220512T091500
DTEND:20220512T103000
SUMMARY:Grüne PPA – Chancen und Herausforderungen für Industrie und Energiebranche
TZID:Europe/Berlin
LAST-MODIFIED:20250509T085350Z
DESCRIPTION:Die Potentiale grüner PPAs sind unbestritten\, die Herausforderungen jedoch vielfältig. Um Hürden und Stolpersteine mit entsprechenden Lösungsansätzen ging es bei der Tagung „Grüne PPA - Chancen und Herausforderungen für Industrie und Energiebranche“ am 12. Mai 2022 in München.
SEQUENCE:1776967926
URL:https://www.intersolar.de/rahmenprogramm/side-event-gruene-ppa-alt
LOCATION:Intersolar Europe\, 
UID:7ae8e76e-1641-41cf-a07b-d228063e920f
END:VEVENT
END:VCALENDAR
