BEGIN:VCALENDAR
PRODID:Solar Promotion GmbH
CALSCALE:GREGORIAN
BEGIN:VEVENT
DTSTAMP:20260419T125557Z
DTSTART:20250508T140000
DTEND:20250508T154500
SUMMARY:Preisverleihung der Energiewende Awards
TZID:Europe/Berlin
LAST-MODIFIED:20250515T103405Z
DESCRIPTION:Der Energiewende Award zeichnet Energieversorger für ihr Engagement für die Energiewende aus. Lernen Sie in der Preisverleihung die besten Praxisbeispiele kennen.
SEQUENCE:1776603357
URL:https://www.intersolar.de/rahmenprogramm/energiewende-award-alt
LOCATION:The smarter E Europe\, 
UID:68a85cc2-ed3e-4836-b6b4-f4d688793c7a
END:VEVENT
END:VCALENDAR
